BEGIN:VCALENDAR
VERSION:2.0
PRODID:-//Hausgrund - ECPv6.15.20//NONSGML v1.0//EN
CALSCALE:GREGORIAN
METHOD:PUBLISH
X-WR-CALNAME:Hausgrund
X-ORIGINAL-URL:https://www.hausgrund-ifv.de
X-WR-CALDESC:Veranstaltungen für Hausgrund
REFRESH-INTERVAL;VALUE=DURATION:PT1H
X-Robots-Tag:noindex
X-PUBLISHED-TTL:PT1H
BEGIN:VTIMEZONE
TZID:Europe/Berlin
BEGIN:DAYLIGHT
TZOFFSETFROM:+0100
TZOFFSETTO:+0200
TZNAME:CEST
DTSTART:20250330T010000
END:DAYLIGHT
BEGIN:STANDARD
TZOFFSETFROM:+0200
TZOFFSETTO:+0100
TZNAME:CET
DTSTART:20251026T010000
END:STANDARD
BEGIN:DAYLIGHT
TZOFFSETFROM:+0100
TZOFFSETTO:+0200
TZNAME:CEST
DTSTART:20260329T010000
END:DAYLIGHT
BEGIN:STANDARD
TZOFFSETFROM:+0200
TZOFFSETTO:+0100
TZNAME:CET
DTSTART:20261025T010000
END:STANDARD
BEGIN:DAYLIGHT
TZOFFSETFROM:+0100
TZOFFSETTO:+0200
TZNAME:CEST
DTSTART:20270328T010000
END:DAYLIGHT
BEGIN:STANDARD
TZOFFSETFROM:+0200
TZOFFSETTO:+0100
TZNAME:CET
DTSTART:20271031T010000
END:STANDARD
END:VTIMEZONE
BEGIN:VEVENT
DTSTART;TZID=Europe/Berlin:20260925T161500
DTEND;TZID=Europe/Berlin:20260925T171500
DTSTAMP:20260421T211208
CREATED:20260309T150451Z
LAST-MODIFIED:20260309T150451Z
UID:317-1790352900-1790356500@www.hausgrund-ifv.de
SUMMARY:Rechte & Pflichten der WEG-Verwaltung
DESCRIPTION:Was darf\, kann und vor allem muss eine WEG-Verwaltung eigentlich leisten? Sie lernen in dem eintägigen Seminar die wesentlichen rechtlichen Aspekte der Verwaltertätigkeit kennen und erfahren darüber hinaus\, was Ihre WEG individuell mit der Verwaltung im Verwaltervertrag regeln sollte. Außerdem erhalten Sie Einblicke in die praktische Arbeit von Verwaltungen sowie Antworten auf die Frage\, wie die Zusammenarbeit von Verwaltung\, Beirat und den Wohnungseigentümer:innen bestenfalls funktionieren sollte. Dieter Bachmann berichtet aus seiner Praxiserfahrung über typische Probleme und mögliche Lösungsansätze. \n\n\nGeeignet für Verwaltungsbeiräte und Miteigentümer*innen
URL:https://www.hausgrund-ifv.de/event/rechte-pflichten-der-weg-verwaltung-2/
LOCATION:Online/Webinar
END:VEVENT
END:VCALENDAR